BEGIN:VCALENDAR
VERSION:2.0
PRODID:-//wp-events-plugin.com//6.4.9//EN
TZID:America/Los_Angeles
X-WR-TIMEZONE:America/Los_Angeles
BEGIN:VEVENT
UID:3@bayareasfo.com
DTSTART:20171028T190000Z
DTEND:20171028T230000Z
DTSTAMP:20171024T232240Z
URL:https://bayareasfo.com/events/happy-diwali/
SUMMARY:Diwali celebration at California College of the Arts with Asha
DESCRIPTION:\n\n\n\nThe time has come to put on your fanciest Indian clothe
 s and bring out your best Bollywood moves !\n\nAsha SF and the California 
 College of the Arts (CCA) bring to you the much awaited annual Diwali/Boll
 ywood Dance Night\, on Saturday October 28th from 7-11pm!\n\nCome out for 
 a memorable night - with an all you can eat BUFFET of delicious Indian foo
 d from Kasa and a LIVE DJ to fuel the Bollywood dancing!\n\nTickets are $2
 5 pre-sale and $30 at the door. Tickets include the price of admission AND
  food!\n\nFor Ticket click here\n\n\n
CATEGORIES:Community Gathering
LOCATION:California College of the Arts  1111 8th Street\, California Colle
 ge of the Arts  1111 8th Street \, San Francisco\, CA\, 94107\, United Sta
 tes
X-APPLE-STRUCTURED-LOCATION;VALUE=URI;X-ADDRESS=California College of the A
 rts  1111 8th Street \, San Francisco\, CA\, 94107\, United States;X-APPLE
 -RADIUS=100;X-TITLE=California College of the Arts  1111 8th Street:geo:0,
 0
END:VEVENT
BEGIN:VEVENT
UID:6@bayareasfo.com
DTSTART:20171028T190000Z
DTEND:20171028T220000Z
DTSTAMP:20171024T232327Z
URL:https://bayareasfo.com/events/silicon-valley-dandiya-raas-asha/
SUMMARY:Silicon Valley Dandiya Raas with Asha
DESCRIPTION:\n\n\n\n&nbsp\;\n\nCome celebrate Navratri with Asha for Educat
 ion\, Silicon Valley. Night will end with an all-out Bhangra and Bollywood
  Dance party with Classical and latest bollywood beats!!\n\nDon't think yo
 u can dance?\nWe have free lessons starting at 8:00 PM if you are a novice
  or just looking get back into the groove. The steps are basic and most pe
 ople pick up the dance within 30 minutes of the lesson. Find out more abou
 t the dance at http://en.wikipedia.org/wiki/Dandiya_Raas\n\nEarly Birt (Oc
 t 13th)  Adult Price: $12\nKids(6-12 years old): $5\n\nAdult Price: $15\n
 Kids(6-12 years old): $7\nKids under 6 free\n\nAt the Door - $20\n\nDandiy
 as will be available for sale at the door.\nSnack and beverages can be pur
 chased at the venue.\n\nMore information at Asha for Education Dandiya 201
 7\n\nThis is Asha for Education SV fundraiser to raise funds for underpriv
 ileged children in India. Proceeds from the event benefit various Asha for
  Education SV projects. \n\nCome play dandiya and give the children a hope
  for a better future!\n\n
CATEGORIES:Community Gathering
LOCATION:Lynbrook High School\, 1280 Johnson Avenue \, San Jose\, CA\, 9512
 9\, CA\, United States
X-APPLE-STRUCTURED-LOCATION;VALUE=URI;X-ADDRESS=1280 Johnson Avenue \, San 
 Jose\, CA\, 95129\, CA\, United States;X-APPLE-RADIUS=100;X-TITLE=Lynbrook
  High School:geo:0,0
END:VEVENT
BEGIN:VEVENT
UID:7@bayareasfo.com
DTSTART:20171103T200000Z
DTEND:20171103T230000Z
DTSTAMP:20171030T060133Z
URL:https://bayareasfo.com/events/neha-kakkar-live-concert-bay-area/
SUMMARY:Neha Kakkar - Live in Concert Bay Area
DESCRIPTION:
ATTACH;FMTTYPE=image/jpeg:https://bayareasfo.com/wp-content/uploads/2017/1
 0/neha_event.jpg
CATEGORIES:Live Concert
LOCATION:SJSU Event Center\, 290 South 7th Street\, San Jose\, CALIFORNIA\,
  95112\, United States
X-APPLE-STRUCTURED-LOCATION;VALUE=URI;X-ADDRESS=290 South 7th Street\, San 
 Jose\, CALIFORNIA\, 95112\, United States;X-APPLE-RADIUS=100;X-TITLE=SJSU 
 Event Center:geo:0,0
END:VEVENT
BEGIN:VEVENT
UID:10@bayareasfo.com
DTSTART:20171130T190000Z
DTEND:20171130T200000Z
DTSTAMP:20171119T171843Z
URL:https://bayareasfo.com/events/34th-annual-holiday-tree-lighting-ceremo
 ny/
SUMMARY:34th Annual Holiday Tree Lighting Ceremony
DESCRIPTION:Celebrate the start of the holiday season with the traditional 
 lighting of the tree at the Dublin Civic Center.  Enjoy lively seasonal e
 ntertainment from the Dublin High School Jazz Band and the Dublin Unified 
 Elementary School Choir along with cookies and hot cocoa after the perform
 ance.  Also\, be on the lookout for a surprise appearance by a very speci
 al visitor from the North Pole!\nAdmission is free
LOCATION:Dublin Civic Center\, 100 Civic Plaza\, Dublin\, CA\, United State
 s
GEO:37.7041038;-121.9178407
X-APPLE-STRUCTURED-LOCATION;VALUE=URI;X-ADDRESS=100 Civic Plaza\, Dublin\, 
 CA\, United States;X-APPLE-RADIUS=100;X-TITLE=Dublin Civic Center:geo:37.7
 041038,-121.9178407
END:VEVENT
BEGIN:VEVENT
UID:11@bayareasfo.com
DTSTART:20171202T110000Z
DTEND:20171202T180000Z
DTSTAMP:20171119T171924Z
URL:https://bayareasfo.com/events/childrens-holiday-tea/
SUMMARY:Children’s Holiday Tea
DESCRIPTION:Merry Old St. Nick pays a visit to the Heritage Park Sunday Sch
 ool Barn\, as children and their families enjoy a traditional holiday tea 
 buffet and festive sing-along.  Following your tea\, you may tour the Kol
 b House\, decorated for a farm Christmas morning.  Seating is limited.  
 This event will sell out!  Purchase your tickets early.\n$25 per person\,
  all ages\, Activity #WL1000_01
LOCATION:Dublin Heritage Park &amp\; Museums\, 6600 Donlon Way\, Dublin\, C
 A\, 94568\, United States
GEO:37.7006088;-121.9385638
X-APPLE-STRUCTURED-LOCATION;VALUE=URI;X-ADDRESS=6600 Donlon Way\, Dublin\, 
 CA\, 94568\, United States;X-APPLE-RADIUS=100;X-TITLE=Dublin Heritage Park
  & Museums:geo:37.7006088,-121.9385638
END:VEVENT
BEGIN:VEVENT
UID:9@bayareasfo.com
DTSTART:20171231T213000Z
DTEND:20171231T235900Z
DTSTAMP:20171113T133236Z
URL:https://bayareasfo.com/events/bollywood-ball-2018-3m-productions-studi
 o-8-san-jose/
SUMMARY:Bollywood Ball 2018 by 3M Productions at Studio 8 in San Jose
DESCRIPTION:\n\n&nbsp\;\n\n&nbsp\;\n\n&nbsp\;\n\nCOME TO THE HOTTEST ALL AD
 ULTS NYE PARTY!!\n~*~*~*~*~*~*~*~*~*~*~*~*~*~*~*~*~*~*~*~*~*~*~*~*~\n\nFro
 m The Hosts That Have Been Bringing You\nThe Best NYE Events For The Past 
 17 Years\nBring You Once Again Their Most Elegant NYE Event In The Bay\n\n
 BRING IN 2018 IN STYLE\n\n3M Productions\nIn Collaboration With The WLEA\n
 Invite You To Their Annual NYE Event\nBOLLYWOOD BALL 2018\n\n&nbsp\;\n\non
 \nSunday\, Dec. 31st 2017\n\n@ Studio 8\nSan Jose Biggest &amp\; The Most 
 Trendiest Nightclub\n8 South First St\, San Jose\, CA\n(Located in the hea
 rt of Downtown San Jose)\n\nEmbrace The Spirit &amp\; Energy Of The Most C
 aptivating Night Of The Year\nSurrounded in White Glove Glitz\, Glam &amp\
 ; Pizzazz!\nThe Magnificent\, Luxurious Setting Of Our Event\nBedazzles Ou
 r Guests With Charm &amp\; Sophistication\n\nLive Performances &amp\; Live
  Dancers\n\nFeaturing Northern California’s Hottest DJs\n\nSALIM J – B
 ay’s #1 Bollywood DJ\nDJ VIK – Ultra Soundz Entertainment\nDJ SIKHNESS
  – Master of Mixology\n\nMC for the Night - Aamit Sidhra\n\nUpscale Venu
 e with Elaborate Décor\nFree Party Favors\, Props &amp\; Noisemakers\nFre
 e Glowsticks/Necklaces\nChampagne Toast At Midnight\nBiggest Balloon Drop\
 nDrink Specials All Night\nLive Countdown Of Balldrop At Midnight\nProject
 or Screens Via Satellite\n\nState of the Art Lights and Sound\nAll Night O
 f Non Stop Entertainment\nTables With Bottle Service Also Available\n\nTIC
 KETS Available Online Only:\nTickets Will Be Sold Until 12/30\n\nLimited E
 arly Bird Presold - $35 (till Dec 10th)\nGeneral Presold - $39\nVIP Early 
 Bird - $50\nBottle Service For 5 - $450\nVIP Bottle Service For 5 - $600\n
 VVIP Bottle Service For 5 - $650\n\nEarly Bird - $35\n*Guaranteed Entry\n*
 Available until 11/30\n\nGeneral Pre-Sold - $39\n*Guaranteed Entry\n*Price
  subject to change\n\nVIP Early Bird - $50\n*Guaranteed Entry\n*No Waiting
  In Line\n* Available until 11/30\n\nBottle Service - $450\n*No Cover For 
 5 Guests\n*Bottle Service (Choice of Belvedere\, Crown\, Ciroc\, Jameson\,
  Patron\, Moet)\n*Reserved Table by the Dance Floor\n*Guaranteed Entry\n\n
 VIP Bottle Service - $600\n*No Waiting In Line\n*No Cover For 5 Guests\n*B
 ottle Service (Choice of Belvedere\, Crown\, Ciroc\, Jameson\, Patron\, Mo
 et)\n*Premium reserved Table by the Dance Floor or DJ booth / Stage\n*Guar
 anteed Entry\n\nVVIP Bottle Service - $650\n*No Waiting In Line\n*No Cover
  For 5 Guests\n*Premium Bottle Service (Choice of any of the above + Black
  Label\, Hennessy\, Moet Rose\, Don Julio)\n*Premium reserved Table by the
  Dance Floor or DJ booth / Stage\n*Guaranteed Entry\n\nLARGE GROUPS\nFor G
 roups Of 10+\, Call Us For Discounts &amp\; Details!\n\nTickets Can Be Pur
 chased At: www.tickethungama.com/3m\nWant More Information Regarding Our 
 Event….Call Us!\n\nGENERAL INFORMATION:\n21 To Enter\nDoors Open At 9:30
 pm\n\nSTRICT DRESS CODE\nNO Jeans\, NO Sneakers/Tennis shoes\, NO Hats\, N
 O Sports Apparel Allowed\nThis Is Strictly An Elegant Affair – Dress Cod
 e Will Be Enforced!\n\nCONTACT INFO:\nCall : 408-605-5915 / 408-234-6709\n
 Email : mmm_prod@yahoo.com\nVisit : www.desinewyearparty.com\n\nNOTE: Thi
 s is a public event which will be recorded. You may appear in pictures/vid
 eo recordings. We have full rights to use this media anywhere without seek
 ing your prior or post permissions
ATTACH;FMTTYPE=image/jpeg:https://bayareasfo.com/wp-content/uploads/2017/1
 1/2018_NEW-YEAR.jpg
CATEGORIES:Friends having fun,Live Concert
LOCATION:Studio 8\, 8 South First Street\, San Jose\, CA\, United States
GEO:37.3360049;-121.89037029999997
X-APPLE-STRUCTURED-LOCATION;VALUE=URI;X-ADDRESS=8 South First Street\, San 
 Jose\, CA\, United States;X-APPLE-RADIUS=100;X-TITLE=Studio 8:geo:37.33600
 49,-121.89037029999997
END:VEVENT
END:VCALENDAR